BEGIN:VCALENDAR
VERSION:2.0
PRODID:-//Pro Loco Mesagne - ECPv6.9.0//NONSGML v1.0//EN
CALSCALE:GREGORIAN
METHOD:PUBLISH
X-ORIGINAL-URL:https://prolocomesagne.com
X-WR-CALDESC:Eventi per Pro Loco Mesagne
REFRESH-INTERVAL;VALUE=DURATION:PT1H
X-Robots-Tag:noindex
X-PUBLISHED-TTL:PT1H
BEGIN:VTIMEZONE
TZID:Europe/Rome
BEGIN:DAYLIGHT
TZOFFSETFROM:+0100
TZOFFSETTO:+0200
TZNAME:CEST
DTSTART:20210328T010000
END:DAYLIGHT
BEGIN:STANDARD
TZOFFSETFROM:+0200
TZOFFSETTO:+0100
TZNAME:CET
DTSTART:20211031T010000
END:STANDARD
END:VTIMEZONE
BEGIN:VEVENT
DTSTART;TZID=Europe/Rome:20210427T080000
DTEND;TZID=Europe/Rome:20210427T133000
DTSTAMP:20260422T141429
CREATED:20210424T171906Z
LAST-MODIFIED:20210424T171908Z
UID:246-1619510400-1619530200@prolocomesagne.com
SUMMARY:Campagna Amica\, i buoni prodotti della terra
DESCRIPTION:Il mercato a Mesagne in piazza Gioberti\nI sapori e i profumi della campagna arrivano in città con i Mercati di Campagna Amica\, iniziativa di Coldiretti che dà la possibilità di acquistare prodotti di stagione\, selezionati e a km zero direttamente dagli agricoltori. Alcune date sono suscettibili di modifiche: scopri il calendario aggiornato nel sito ufficiale di Campagna Amica.
URL:https://prolocomesagne.com/evento/campagna-amica-i-buoni-prodotti-della-terra/
LOCATION:Piazza Gioberti\, Mesagne\, 72023\, Italia
CATEGORIES:Mercatini
ATTACH;FMTTYPE=image/jpeg:https://prolocomesagne.com/wp-content/uploads/2021/04/campagna_amica.jpeg
END:VEVENT
END:VCALENDAR