BEGIN:VCALENDAR
VERSION:2.0
PRODID:-//Pro Loco Mesagne - ECPv6.9.0//NONSGML v1.0//EN
CALSCALE:GREGORIAN
METHOD:PUBLISH
X-WR-CALNAME:Pro Loco Mesagne
X-ORIGINAL-URL:https://prolocomesagne.com
X-WR-CALDESC:Eventi per Pro Loco Mesagne
REFRESH-INTERVAL;VALUE=DURATION:PT1H
X-Robots-Tag:noindex
X-PUBLISHED-TTL:PT1H
BEGIN:VTIMEZONE
TZID:Europe/Rome
BEGIN:DAYLIGHT
TZOFFSETFROM:+0100
TZOFFSETTO:+0200
TZNAME:CEST
DTSTART:20210328T010000
END:DAYLIGHT
BEGIN:STANDARD
TZOFFSETFROM:+0200
TZOFFSETTO:+0100
TZNAME:CET
DTSTART:20211031T010000
END:STANDARD
BEGIN:DAYLIGHT
TZOFFSETFROM:+0100
TZOFFSETTO:+0200
TZNAME:CEST
DTSTART:20220327T010000
END:DAYLIGHT
BEGIN:STANDARD
TZOFFSETFROM:+0200
TZOFFSETTO:+0100
TZNAME:CET
DTSTART:20221030T010000
END:STANDARD
BEGIN:DAYLIGHT
TZOFFSETFROM:+0100
TZOFFSETTO:+0200
TZNAME:CEST
DTSTART:20230326T010000
END:DAYLIGHT
BEGIN:STANDARD
TZOFFSETFROM:+0200
TZOFFSETTO:+0100
TZNAME:CET
DTSTART:20231029T010000
END:STANDARD
END:VTIMEZONE
BEGIN:VEVENT
DTSTART;TZID=Europe/Rome:20231109T190000
DTEND;TZID=Europe/Rome:20231109T213000
DTSTAMP:20260420T044141
CREATED:20231031T105022Z
LAST-MODIFIED:20231031T105022Z
UID:663-1699556400-1699565400@prolocomesagne.com
SUMMARY:Vajont: il Respiro della Memoria
DESCRIPTION:Per la settimana della lettura\, la Pro Loco Mesagne è lieta di invitarvi ad una serata dedicata alla visione del film Il Vajont inerente agli eventi del 9 ottobre 1963\, preceduta dalla lettura di alcuni articoli di cronaca dell’epoca. Seguirà discussione su “Leggere è importante per evitare anche tragedie umane”. \nVi aspettiamo il 9 novembre alle ore 19:00 \, presso la nostra sede in P.zza Orsini n. 3. \nÈ gradita conferma della vostra partecipazione. Grazie! \n  \n \n 
URL:https://prolocomesagne.com/evento/vajont-il-respiro-della-memoria/
LOCATION:MESAGNE\, Piazza Orsini n. 3\, Mesagne
END:VEVENT
BEGIN:VEVENT
DTSTART;VALUE=DATE:20220909
DTEND;VALUE=DATE:20220910
DTSTAMP:20260420T044141
CREATED:20220904T103338Z
LAST-MODIFIED:20220904T103338Z
UID:575-1662681600-1662767999@prolocomesagne.com
SUMMARY:EMOZIONI IN MUSICA Tributo a Lucio Battisti
DESCRIPTION:Il 9 settembre 1998 ci lasciava Lucio Battisti. La Pro Loco di Mesagne e La Compagnia Group il prossimo 9 settembre\, esattamente dopo 24 anni dalla sua scomparsa\, renderanno omaggio al grande artista – “un genio senza tempo”- con un concerto\, proponendo alcuni brani della famosa coppia Battisti/Mogo \n  \nl.
URL:https://prolocomesagne.com/evento/emozioni-in-musica-tributo-a-lucio-battisti/
LOCATION:piazza Commestibile\, Mesagne\, Italia
CATEGORIES:musica
ATTACH;FMTTYPE=image/jpeg:https://prolocomesagne.com/wp-content/uploads/2022/09/9-settembre-Lucio-Battisti.jpg
END:VEVENT
BEGIN:VEVENT
DTSTART;VALUE=DATE:20220723
DTEND;VALUE=DATE:20220724
DTSTAMP:20260420T044141
CREATED:20220303T193448Z
LAST-MODIFIED:20220303T193633Z
UID:543-1658534400-1658620799@prolocomesagne.com
SUMMARY:Palma d’oro Mesagnese 2022
DESCRIPTION:Mese di Luglio sabato 23: Palma d’oro Mesagnese 2022
URL:https://prolocomesagne.com/evento/palma-doro-mesagnese-2022/
LOCATION:MESAGNE\, Piazza Orsini n. 3\, Mesagne
END:VEVENT
BEGIN:VEVENT
DTSTART;VALUE=DATE:20220605
DTEND;VALUE=DATE:20220606
DTSTAMP:20260420T044141
CREATED:20220303T193025Z
LAST-MODIFIED:20220303T201518Z
UID:541-1654387200-1654473599@prolocomesagne.com
SUMMARY:Giugno: domenica 5 “Mesagne e dintorni in bici”
DESCRIPTION:Mese di Giugno: prima domenica del mese “Mesagne e dintorni in bici” \nincontro in piazza Orsini ore 17:00 rientro ore 20:00
URL:https://prolocomesagne.com/evento/giugno-domenica-5-mesagne-e-dintorni-in-bici/
LOCATION:MESAGNE\, Piazza Orsini n. 3\, Mesagne
END:VEVENT
BEGIN:VEVENT
DTSTART;TZID=Europe/Rome:20220422T080000
DTEND;TZID=Europe/Rome:20220525T200000
DTSTAMP:20260420T044141
CREATED:20220303T192348Z
LAST-MODIFIED:20220303T192348Z
UID:536-1650614400-1653508800@prolocomesagne.com
SUMMARY:Raduno nazione delle Goldwing
DESCRIPTION:Aprile 22\,23\,24\,25 raduno nazione delle Goldwing
URL:https://prolocomesagne.com/evento/raduno-nazione-delle-goldwing/
LOCATION:MESAGNE\, Piazza Orsini n. 3\, Mesagne
END:VEVENT
BEGIN:VEVENT
DTSTART;VALUE=DATE:20220312
DTEND;VALUE=DATE:20220313
DTSTAMP:20260420T044141
CREATED:20220303T184640Z
LAST-MODIFIED:20220303T184640Z
UID:527-1647043200-1647129599@prolocomesagne.com
SUMMARY:
DESCRIPTION:Marzo 2022 sabato 12 e sabato 26 dalle ore 18:00 alle ore 19:30 \nIncontro in piazza Orsini del Balzo 3 – sede della Pro Loco \nVerranno proposti GRATUITAMENTE VISITE ACCOMPAGNATE – itinerari atti a promuovere il territorio a 360 gradi con scoperte di percorsi inediti rivolti sia ai Mesagnesi ma anche ai TURISTI. Le visite saranno accompagnate dai ns soci volontari.
URL:https://prolocomesagne.com/evento/527/
LOCATION:piazza orsini mesagne\, piazza Orsini del Balzo 3\, Mesagne\, 72023\, Italia
END:VEVENT
BEGIN:VEVENT
DTSTART;VALUE=DATE:20220308
DTEND;VALUE=DATE:20220309
DTSTAMP:20260420T044141
CREATED:20220307T133130Z
LAST-MODIFIED:20220307T133504Z
UID:565-1646697600-1646783999@prolocomesagne.com
SUMMARY:8 Marzo Festa della Donna in Pro Loco
DESCRIPTION: La Pro Loco di Mesagne ha il piacere di invitarvi per domani 8 marzo alle ore 18:00 per commemorare la festa della donna presso la sede in piazza Orsini \,3. \nInterverranno la prof.ssa di storia dell’arte Maria Lucia Pugliese\, \nl’avvocato Fabio Sportelli \ne la presidente Teresa Pastorelli. \nIl filo conduttore della serata sarà \n\nTrascorreremo meno di due ore insieme ma cariche di significati.
URL:https://prolocomesagne.com/evento/565/
LOCATION:MESAGNE\, Piazza Orsini n. 3\, Mesagne
END:VEVENT
BEGIN:VEVENT
DTSTART;VALUE=DATE:20220306
DTEND;VALUE=DATE:20220307
DTSTAMP:20260420T044141
CREATED:20220303T190603Z
LAST-MODIFIED:20220303T190947Z
UID:531-1646524800-1646611199@prolocomesagne.com
SUMMARY:Itinerario "Contessina Lina Asparra"
DESCRIPTION:Marzo   domenica 6 dalle ore 10:00 alle ore 11.30  Itinerario “Contessina Lina Asparra”. Verranno proposti GRATUITAENTE VISITE ACCOMPAGNATE degli itinerari atti a promuovere il territorio a 360 gradi con scoperte di percorsi inediti rivolti sia ai Mesagnesi ma anche ai TURISTI. Le visite saranno accompagnate dai ns soci volontari.
URL:https://prolocomesagne.com/evento/531/
LOCATION:MESAGNE\, Piazza Orsini n. 3\, Mesagne
END:VEVENT
BEGIN:VEVENT
DTSTART;TZID=Europe/Rome:20220122T183000
DTEND;TZID=Europe/Rome:20220122T191000
DTSTAMP:20260420T044141
CREATED:20220122T112003Z
LAST-MODIFIED:20220122T112003Z
UID:516-1642876200-1642878600@prolocomesagne.com
SUMMARY:GIORNATA NAZIONALE DIALETTO
DESCRIPTION:Durante l’evento ribadiremo l’importanza del dialetto per la cultura di un paese e ascolteremo poesie e canzoni in mesagnese
URL:https://prolocomesagne.com/evento/giornata-nazionale-dialetto/
ATTACH;FMTTYPE=image/jpeg:https://prolocomesagne.com/wp-content/uploads/2022/01/WhatsApp-Image-2022-01-22-at-11.49.36.jpeg
END:VEVENT
BEGIN:VEVENT
DTSTART;TZID=Europe/Rome:20210724T210000
DTEND;TZID=Europe/Rome:20210724T223000
DTSTAMP:20260420T044141
CREATED:20210609T214201Z
LAST-MODIFIED:20210609T214232Z
UID:437-1627160400-1627165800@prolocomesagne.com
SUMMARY:Palma d'Oro Mesagnese 2021
DESCRIPTION:Si svolgerà il 24 luglio 2021 a Mesagne la sedicesima edizione del “La palma d’oro mesagnese”. \nL’edizione 2021 della manifestazione vuole premiare quelle forme di  genio che spesso anche se vicinissimi a noi non riusciamo ad individuare. Siano esse nel campo dell’attività sociale\, culturale ma anche in  tantissime altre forme. \nIl genio sarà il protagonista della serata come nelle edizioni precedenti. Questo 2021 vede come protagonista uno dei geni più illustri della nostra storia “Leonardo da Vinci”. Una serata da non perdere con notevoli risvolti molto interessanti. \nL’obiettivo principale sarà\, come sempre\, motivare i più giovani a seguire  l’esempio di chi ha lavorato per la collettività raggiungendo traguardi considerevoli e che saranno loro i futuri protagonisti della comunità. L’appuntamento è alle ore 21 in piazza Orsini del Balzo il 24 luglio 2021. \n                 
URL:https://prolocomesagne.com/evento/palma-doro-mesagnese-2021/
END:VEVENT
BEGIN:VEVENT
DTSTART;TZID=Europe/Rome:20210718T080000
DTEND;TZID=Europe/Rome:20210718T170000
DTSTAMP:20260420T044141
CREATED:20210718T192027Z
LAST-MODIFIED:20210718T192027Z
UID:470-1626595200-1626627600@prolocomesagne.com
SUMMARY:
DESCRIPTION:
URL:https://prolocomesagne.com/evento/470/
END:VEVENT
BEGIN:VEVENT
DTSTART;TZID=Europe/Rome:20210711T080000
DTEND;TZID=Europe/Rome:20210711T203000
DTSTAMP:20260420T044141
CREATED:20210609T203614Z
LAST-MODIFIED:20210609T203956Z
UID:427-1625990400-1626035400@prolocomesagne.com
SUMMARY:Giornata Nazionale delle Pro Loco 2021   11 luglio 2021
DESCRIPTION:Per loro missione\, le Pro Loco profondono il massimo impegno per valorizzare e animare i territori\, promuovere i prodotti tipici\, tutelare e valorizzare le tradizioni. Un’azione quotidiana contrassegnata da un viscerale amore per la propria terra. \nUna parola preziosa “condivisione” che sarà il filo conduttore della nuova edizione della Giornata Nazionale delle Pro Loco\, che si svolgerà domenica 11 luglio\, la nostra festa che\,  da   quest’anno                                                                                                                                                                 avrà una veste tutta nuova. \nUna giornata in cui\, grazie alla partecipazione delle oltre 6000 Pro Loco italiane\, racconteremo l’Italia più bella attraverso il prezioso impegno dei nostri volontari e mettendo in luce l’enorme lavoro che\, quotidianamente\, portano avanti le donne e gli uomini delle Pro Loco\, espressione dell’Italia più autentica\, quell’Italia che amiamo e che vogliamo far ripartire\, senza chiedere nulla in cambio\, ponendo – noi per primi – le basi per un futuro che sia davvero migliore\, per tutti…
URL:https://prolocomesagne.com/evento/giornata-nazionale-delle-pro-loco-2021-11-luglio-2021/
LOCATION:MESAGNE\, Piazza Orsini n. 3\, Mesagne
END:VEVENT
BEGIN:VEVENT
DTSTART;TZID=Europe/Rome:20210620T170000
DTEND;TZID=Europe/Rome:20210620T230000
DTSTAMP:20260420T044141
CREATED:20210611T160903Z
LAST-MODIFIED:20210611T161049Z
UID:444-1624208400-1624230000@prolocomesagne.com
SUMMARY:FESTA DELLA MUSICA  programma
DESCRIPTION:  \nProgramma provvisorio\ndalle ore18:OO alle ore 18.40                          MASSIMO TORMEN \nIl pugliese Massimo Tormen è cantautore “senza aggettivi” né pregiudizi di genere. Un discorso musicale concreto e personale – godibile\, intelligente\, commosso e graffiante. I testi sono intensi e sfacciati: serenate\, rapporti difficili\, storielle divertenti\, giornate di noia\, filastrocche\, folgorazioni liriche\, canzonature\, una certa urgenza politica e infinite trovate linguistiche. \n  \n   Dalle ore  19:00 alle 19:20                                      OLIVER ANSEAU  \n \nCon il  sassofono rivivremo pezzi come “La danza dell’orso”\,  “La polka d’Eva”\, “Bella Ciao” etc. \nOliver vive a momentaneamente a  Francavilla Fontana \nNato e vissuto in Belgio suona il sassofono da quando aveva 12 anni \n  \nInnamorato della nostra Puglia è un attivo cicloturista ma la musica è la sua prima passione \n  \nDalle  ore 19:00 alle ore 19:30                                                       CARLOTTA CAMASSA E FEDERICA MARSEGLIA \n \n  \nLe bravissime artiste\, guidate dalla prof.ssa Patrizia Taurisano\, si esibiranno in un DUO PIANISTICO e poi da soliste. \nSono solo al secondo anno di indirizzo musicale della scuola secondaria di primo grado “Materdona-Moro” è già pianiste d’eccezione. \n  \n  \nDalle ore 20:00 alle ore  21:30                                                                      “LA COMPAGNIA GROUP” \nLa “Compagnia Group” nasce circa dieci anni fa come cover di Lucio Battisti\, interpretando\, in particolare\, i brani firmati dalla mitica coppia Battisti-Mogol\, sodalizio durato circa 15 anni. La banda musicale che si definisce un “laboratorio aperto” composta da amici di lungo corso con la comune passione della musica ( alcuni di loro dirigenti della pro loco di Mesagne) oggi professionisti in ambito lavorativo .La “Compagnia Group”  negli anni ha collaborato\, e continua a collaborare\, con numerosi musicisti e cantanti locali\, eseguendo brani di genere musicale differenti\, sperimentando diersi format artistici .Il gruppo da sempre offre i suoi concerti in modo gratuito\, intervenendo in iniziative culturali\, sociali e di solidarietà. \nL’attuale formazione de “La Compagnia Group””:\nGianni Manca\,            chitarra e voce;              Diego Mangia\,            basso e voce;                Vincenzo Carriero\,     batteria;                  Marco Fina\,                 chitarra;                          Clarissa Montanaro\,   tastiere e voci;              Vincenzo Gatto\,          tastiere e voce;            Alessandro Merico\,    voce;                      Stefania Salamina\, voce\, (dir.re artistico)  \n  \nIl programma si arricchirà di altri artisti che stanno dando la loro                                                               disponibilità. \n 
URL:https://prolocomesagne.com/evento/festa-della-musica-programma/
LOCATION:MESAGNE\, Piazza Orsini n. 3\, Mesagne
CATEGORIES:musica
END:VEVENT
BEGIN:VEVENT
DTSTART;TZID=Europe/Rome:20210620T100000
DTEND;TZID=Europe/Rome:20210620T233000
DTSTAMP:20260420T044141
CREATED:20210515T184609Z
LAST-MODIFIED:20210515T184609Z
UID:394-1624183200-1624231800@prolocomesagne.com
SUMMARY:LA FESTA DELLA MUSICA A MESAGNE IL 20 GIUGNO
DESCRIPTION:Siamo pronti a ripartire\, IL 20 GIUGNO 2021\, rispettando tutte le ordinanze e le norme ANTICOVID\, per rappresentare la Campania nella “Festa Nazionale della Musica Europea”. Una festa mondiale che\, come sostenuto dal MIBAC \npiazza orsini del balzo per la musica \ndeve coinvolgere in maniera organica tutta l’Italia trasmettendo quel messaggio di cultura\, partecipazione\, integrazione\, armonia e universalità che solo la musica riesce a dare”. Dopo l’esperienza degli anni passati che ha visto protagonista tante bellissime località italiane\, la Pro Loco\, sempre attenta a promuovere il territorio nella sua interezza\, in questo anno 2021 ha pensato di portare all’attenzione dei tanti musicisti ed appassionati\, altri luoghi che trasudano storia\, religiosità\, cultura popolare come la nostra Mesagne.\nQuest’anno\, in collaborazione e patrocinio della nostra amministrazione e dei tanti musicisti che vorranno partecipare\, inizieremo dal bellissimo centro storico fino a   spaziare nelle immediate periferie dal Santuario della Madonna del Carmine alla chiesa di Sant’Antonio e al santuario di Mater Domini. Da questi luoghi la Musica irradierà le sue note per le vie cittadine\, per poi insinuarsi  felicemente nel ricordo dei partecipanti di  un bellissimo evento culturale che avrà una ricaduta sociale\, la musica dal vivo è socialità e cultura\, la musica è vita. La nostra cittadina accoglierà esibizioni di musica leggera e folcloristica. VI ASPETTIAMO TUTTI il 20 GIUGNO 2021   \, confidando in una definitiva ripartenza e con la musica che ci unisce\, riusciamo a sconfiggere questo maledettissimo virus. “La musica buca il cielo” Charles Baudelaire \nhttps://storico.beniculturali.it/mibac/export/MiBAC/index.html#&panel1-2 \nhttps://www.festadellamusica.beniculturali.it/ \n 
URL:https://prolocomesagne.com/evento/la-festa-della-musica-a-mesagne-il-20-giugno/
LOCATION:MESAGNE\, Piazza Orsini n. 3\, Mesagne
END:VEVENT
BEGIN:VEVENT
DTSTART;TZID=Europe/Rome:20210602T080000
DTEND;TZID=Europe/Rome:20210602T170000
DTSTAMP:20260420T044141
CREATED:20210602T095242Z
LAST-MODIFIED:20210602T095242Z
UID:412-1622620800-1622653200@prolocomesagne.com
SUMMARY:Mesagne in bici e dintorni
DESCRIPTION:
URL:https://prolocomesagne.com/evento/mesagne-in-bici-e-dintorni/
END:VEVENT
BEGIN:VEVENT
DTSTART;TZID=Europe/Rome:20210529T170000
DTEND;TZID=Europe/Rome:20210529T210000
DTSTAMP:20260420T044141
CREATED:20210515T185930Z
LAST-MODIFIED:20210515T185930Z
UID:399-1622307600-1622322000@prolocomesagne.com
SUMMARY:MESAGNE IN BICI IL 29 MAGGIO 2021
DESCRIPTION:Il 29 Maggio 2021 si replica con Mesagne in bici.Questa è la XXIX EDIZIONE. Lo scorso anno\, causa covid\, non si è svolta la manifestazione.  Quest’anno ci saranno anche le premiazioni a sorpresa. Il luogo che visiteremo è veramente interessante. La novità è il cambio di orario. La partenza è prevista sempre da piazza Orsini in Mesagne ma di pomeriggio alle ore 17:00. Il cambio di orario ci permette di ritornare con il fresco e meno affaticati. Le iscrizioni si ricevono sempre presso la nostra sede in piazza Orsini n 3. \nQuest’anno tutti i soci tesserati non pagheranno la quota assicurativa. Per i simpatizzanti un contributo di € 3\,00. Quest’anno non ci saranno le magliette ma  delle fettucce colorate che simboleggiano la ripresa. \n \nLogo Proloco Mesagne
URL:https://prolocomesagne.com/evento/mesagne-in-bici/
END:VEVENT
BEGIN:VEVENT
DTSTART;TZID=Europe/Rome:20210515T090000
DTEND;TZID=Europe/Rome:20210515T200000
DTSTAMP:20260420T044141
CREATED:20210515T183338Z
LAST-MODIFIED:20210515T183338Z
UID:389-1621069200-1621108800@prolocomesagne.com
SUMMARY:mercatini ARTEVENTINPIAZZA ogni terza domenica del mese
DESCRIPTION:Ogni terza domenica del mese il mercatino dei maestri artigiani. Il mercatino soddisfa veramente tutti. Creativi\, artisti e artigiani vi aspettano per mostrarvi i loro manufatti realizzati rigorosamente a mano\, qualcosa di unico e fatto con tanto amore: \nsolo per maggio domenica 23\, 20 giugno\, 18 luglio\, 15 agosto\, 19 settembre e 17 ottobre 2021 \n 
URL:https://prolocomesagne.com/evento/mercatini-arteventinpiazza-ogni-terza-domenica-del-mese/
LOCATION:villa comunale mesagne\, Italia
END:VEVENT
BEGIN:VEVENT
DTSTART;TZID=Europe/Rome:20210515T080000
DTEND;TZID=Europe/Rome:20210630T170000
DTSTAMP:20260420T044141
CREATED:20210515T192425Z
LAST-MODIFIED:20210515T192425Z
UID:402-1621065600-1625072400@prolocomesagne.com
SUMMARY:VANTAGGI DEI SOCI TESSERATI
DESCRIPTION:La tessera del Socio Pro Loco\n \nEntra a far parte della famiglia delle Pro Loco d’Italia\, un grande mondo composto da oltre 6300 Associazioni e 500.000 associati su tutto il territorio nazionale. Le Pro Loco sono storia\, turismo e cultura e ci permettono di scoprire i luoghi più suggestivi e gli itinerari più emozionanti della nostra splendida penisola. Richiedi subito la Tessera del Socio alla tua Pro Loco\, registrati cliccando qui e sarai sempre aggiornato sulle nuove convenzioni e sugli sconti last minute. \nLa Tessera del Socio Pro Loco è la card associativa di tutte le Pro Loco d’Italia. Un’unica tessera che permetterà di sentirsi parte del mondo Pro Loco e\, soprattutto\, garantirà migliaia di sconti su tutto il territorio nazionale.\nLa Tessera è annuale e sul retro è possibile la personalizzazione con i dati della Pro Loco e del Socio.\nViene  distribuita a tutte le Pro Loco Affiliate UNPLI che possono richiederla al proprio Comitato Regionale\nSul sito tesseradelsocio.it sono elencate tutte le convenzioni nazionali e locali divise per categoria e regione. Tutte le convenzioni sono geolocalizzate su una mappa così da permettere una facile individuazione. \n\n\n\n\n\n\n\n\n\n\n\n\n\n\n\n\n\n\nLa tessera del Socio Pro Loco raddoppia e moltiplica i vantaggi!\n \nRichiedi anche l’estensione “BLU”* (al costo di 9€ per i soci da 15 anni in su e 6\,50 € per i soci da 6 a 14 anni) per ottenere: \n\nl’abbonamento annuale al periodico trimestrale di promozione turistica “Arcobaleno d’Italia”;\ntanti altri vantaggi.\nIn più avrai la possibilità di sottoscrivere gratuitamente la polizza infortuni per i Soci Pro Loco;\n\nL’estensione\, va attivata esclusivamente su Myunpli tramite l’inserimento dei nominativi e dei dati richiesta dalla Vittoria Assicurazioni. Il pagamento potrà essere comunque effettuato sia tramite paypal sia tramite bonifico (sul conto del Comitato Regionale di appartenenza) e la cui ricevuta dovrà essere caricata tramite un apposito campo nel modulo di attivazione delle Tessere Blu. \n*La Tessera Blu è una tessera virtuale che potrà essere stampata da myunpli.it \n\n\n\n\n\n 
URL:https://prolocomesagne.com/evento/vantaggi-dei-soci-tesserati/
END:VEVENT
BEGIN:VEVENT
DTSTART;TZID=Europe/Rome:20210427T080000
DTEND;TZID=Europe/Rome:20210427T133000
DTSTAMP:20260420T044141
CREATED:20210424T171906Z
LAST-MODIFIED:20210424T171908Z
UID:246-1619510400-1619530200@prolocomesagne.com
SUMMARY:Campagna Amica\, i buoni prodotti della terra
DESCRIPTION:Il mercato a Mesagne in piazza Gioberti\nI sapori e i profumi della campagna arrivano in città con i Mercati di Campagna Amica\, iniziativa di Coldiretti che dà la possibilità di acquistare prodotti di stagione\, selezionati e a km zero direttamente dagli agricoltori. Alcune date sono suscettibili di modifiche: scopri il calendario aggiornato nel sito ufficiale di Campagna Amica.
URL:https://prolocomesagne.com/evento/campagna-amica-i-buoni-prodotti-della-terra/
LOCATION:Piazza Gioberti\, Mesagne\, 72023\, Italia
CATEGORIES:Mercatini
ATTACH;FMTTYPE=image/jpeg:https://prolocomesagne.com/wp-content/uploads/2021/04/campagna_amica.jpeg
END:VEVENT
END:VCALENDAR