BEGIN:VCALENDAR
VERSION:2.0
PRODID:-//Pro Loco Mesagne - ECPv6.9.0//NONSGML v1.0//EN
CALSCALE:GREGORIAN
METHOD:PUBLISH
X-ORIGINAL-URL:https://prolocomesagne.com
X-WR-CALDESC:Eventi per Pro Loco Mesagne
REFRESH-INTERVAL;VALUE=DURATION:PT1H
X-Robots-Tag:noindex
X-PUBLISHED-TTL:PT1H
BEGIN:VTIMEZONE
TZID:Europe/Rome
BEGIN:DAYLIGHT
TZOFFSETFROM:+0100
TZOFFSETTO:+0200
TZNAME:CEST
DTSTART:20210328T010000
END:DAYLIGHT
BEGIN:STANDARD
TZOFFSETFROM:+0200
TZOFFSETTO:+0100
TZNAME:CET
DTSTART:20211031T010000
END:STANDARD
END:VTIMEZONE
BEGIN:VEVENT
DTSTART;TZID=Europe/Rome:20210620T170000
DTEND;TZID=Europe/Rome:20210620T230000
DTSTAMP:20260420T022618
CREATED:20210611T160903Z
LAST-MODIFIED:20210611T161049Z
UID:444-1624208400-1624230000@prolocomesagne.com
SUMMARY:FESTA DELLA MUSICA  programma
DESCRIPTION:  \nProgramma provvisorio\ndalle ore18:OO alle ore 18.40                          MASSIMO TORMEN \nIl pugliese Massimo Tormen è cantautore “senza aggettivi” né pregiudizi di genere. Un discorso musicale concreto e personale – godibile\, intelligente\, commosso e graffiante. I testi sono intensi e sfacciati: serenate\, rapporti difficili\, storielle divertenti\, giornate di noia\, filastrocche\, folgorazioni liriche\, canzonature\, una certa urgenza politica e infinite trovate linguistiche. \n  \n   Dalle ore  19:00 alle 19:20                                      OLIVER ANSEAU  \n \nCon il  sassofono rivivremo pezzi come “La danza dell’orso”\,  “La polka d’Eva”\, “Bella Ciao” etc. \nOliver vive a momentaneamente a  Francavilla Fontana \nNato e vissuto in Belgio suona il sassofono da quando aveva 12 anni \n  \nInnamorato della nostra Puglia è un attivo cicloturista ma la musica è la sua prima passione \n  \nDalle  ore 19:00 alle ore 19:30                                                       CARLOTTA CAMASSA E FEDERICA MARSEGLIA \n \n  \nLe bravissime artiste\, guidate dalla prof.ssa Patrizia Taurisano\, si esibiranno in un DUO PIANISTICO e poi da soliste. \nSono solo al secondo anno di indirizzo musicale della scuola secondaria di primo grado “Materdona-Moro” è già pianiste d’eccezione. \n  \n  \nDalle ore 20:00 alle ore  21:30                                                                      “LA COMPAGNIA GROUP” \nLa “Compagnia Group” nasce circa dieci anni fa come cover di Lucio Battisti\, interpretando\, in particolare\, i brani firmati dalla mitica coppia Battisti-Mogol\, sodalizio durato circa 15 anni. La banda musicale che si definisce un “laboratorio aperto” composta da amici di lungo corso con la comune passione della musica ( alcuni di loro dirigenti della pro loco di Mesagne) oggi professionisti in ambito lavorativo .La “Compagnia Group”  negli anni ha collaborato\, e continua a collaborare\, con numerosi musicisti e cantanti locali\, eseguendo brani di genere musicale differenti\, sperimentando diersi format artistici .Il gruppo da sempre offre i suoi concerti in modo gratuito\, intervenendo in iniziative culturali\, sociali e di solidarietà. \nL’attuale formazione de “La Compagnia Group””:\nGianni Manca\,            chitarra e voce;              Diego Mangia\,            basso e voce;                Vincenzo Carriero\,     batteria;                  Marco Fina\,                 chitarra;                          Clarissa Montanaro\,   tastiere e voci;              Vincenzo Gatto\,          tastiere e voce;            Alessandro Merico\,    voce;                      Stefania Salamina\, voce\, (dir.re artistico)  \n  \nIl programma si arricchirà di altri artisti che stanno dando la loro                                                               disponibilità. \n 
URL:https://prolocomesagne.com/evento/festa-della-musica-programma/
LOCATION:MESAGNE\, Piazza Orsini n. 3\, Mesagne
CATEGORIES:musica
END:VEVENT
END:VCALENDAR